BEGIN:VCALENDAR
VERSION:2.0
PRODID:-//jEvents 2.0 for Joomla//EN
CALSCALE:GREGORIAN
METHOD:PUBLISH
BEGIN:VTIMEZONE
TZID:Europe/Berlin
END:VTIMEZONE
BEGIN:VEVENT
UID:693e9852b7e2c3284d7c0596
CATEGORIES:Einsatzabteilung
CREATED:20251220T151546
SUMMARY:Übung (3)
DESCRIPTION:Thema: Einsätze mit Gefährlichen Stoffen\nInhalt: CBRN (ABC) Einsatz, Messg
 eräte, Raumordnung\nVerantwortlich: Mering Matthias &amp; Max Steffen
X-ALT-DESC;FMTTYPE=text/html:Thema: Einsätze mit Gefährlichen Stoffen<br/>Inhalt: CBRN (ABC) Einsatz, Me
 ssgeräte, Raumordnung<br/>Verantwortlich: Mering Matthias & Max Steffen
DTSTAMP:20260424T171814
DTSTART;TZID=Europe/Berlin:20260209T193000
DTEND;TZID=Europe/Berlin:20260209T210000
SEQUENCE:0
TRANSP:OPAQUE
END:VEVENT
END:VCALENDAR