BEGIN:VCALENDAR
VERSION:2.0
PRODID:-//jEvents 2.0 for Joomla//EN
CALSCALE:GREGORIAN
METHOD:PUBLISH
BEGIN:VTIMEZONE
TZID:Europe/Berlin
END:VTIMEZONE
BEGIN:VEVENT
UID:693e9ad9dada2457b0d72ee9
CATEGORIES:Einsatzabteilung
CREATED:20251220T151546
SUMMARY:Übung (6)
DESCRIPTION:Thema: Technische Hilfeleistung<br/>Inhalt: Einfache Technische Hilfeleistu
 ng bei Betriebs/Maschinenunfällen<br/>Verantwortlich: Zepek Janosch
DTSTAMP:20260423T224516
DTSTART;TZID=Europe/Berlin:20260323T193000
DTEND;TZID=Europe/Berlin:20260323T210000
SEQUENCE:0
TRANSP:OPAQUE
END:VEVENT
END:VCALENDAR