BEGIN:VCALENDAR
VERSION:2.0
PRODID:-//jEvents 2.0 for Joomla//EN
CALSCALE:GREGORIAN
METHOD:PUBLISH
BEGIN:VTIMEZONE
TZID:Europe/Berlin
END:VTIMEZONE
BEGIN:VEVENT
UID:6935a638b7e2c3284d7bbb8a
CATEGORIES:Jugendfeuerwehr
CREATED:20251220T151551
SUMMARY:JF-Sport
LOCATION:Sporthalle
DESCRIPTION:
DTSTAMP:20260424T131017
DTSTART;TZID=Europe/Berlin:20260220T183000
DTEND;TZID=Europe/Berlin:20260220T200000
SEQUENCE:0
TRANSP:OPAQUE
END:VEVENT
END:VCALENDAR