BEGIN:VCALENDAR
VERSION:2.0
PRODID:-//jEvents 2.0 for Joomla//EN
CALSCALE:GREGORIAN
METHOD:PUBLISH
BEGIN:VTIMEZONE
TZID:Europe/Berlin
END:VTIMEZONE
BEGIN:VEVENT
UID:6935a663b7e2c3284d7bbb8c
CATEGORIES:Jugendfeuerwehr
CREATED:20251220T151551
SUMMARY:JF-Übung
DESCRIPTION:
DTSTAMP:20260423T170027
DTSTART;TZID=Europe/Berlin:20260306T183000
DTEND;TZID=Europe/Berlin:20260306T200000
SEQUENCE:0
TRANSP:OPAQUE
END:VEVENT
END:VCALENDAR